View In:
ArcGIS JavaScript
ArcGIS Online Map Viewer
ArcGIS Earth
Service Description: Aerial2021_NAD83_2011
Name: Aerial2021_NAD83_2011
Description:
Single Fused Map Cache: false
Extent:
XMin: 1466993.5564613491
YMin: 522850.6415562986
XMax: 1615459.0564613538
YMax: 645739.6415563077
Spatial Reference: 103122
(6543)
LatestVCSWkid(0)
Initial Extent:
XMin: 1466993.5564613491
YMin: 522850.6415562986
XMax: 1615459.0564613538
YMax: 645739.6415563077
Spatial Reference: 103122
(6543)
LatestVCSWkid(0)
Full Extent:
XMin: 1466993.5564613491
YMin: 522850.6415562986
XMax: 1615459.0564613538
YMax: 645739.6415563077
Spatial Reference: 103122
(6543)
LatestVCSWkid(0)
Pixel Size X: 0.7500000000000235
Pixel Size Y: 0.7500000000000554
Band Count: 3
Pixel Type: U8
RasterFunction Infos: {"rasterFunctionInfos": [{
"name": "None",
"description": "",
"help": ""
}]}
Mensuration Capabilities: Basic
Inspection Capabilities:
Has Histograms: true
Has Colormap: false
Has Multi Dimensions : false
Rendering Rule:
Min Scale: 0
Max Scale: 0
Copyright Text:
Service Data Type: esriImageServiceDataTypeProcessed
Min Values: 0, 0, 0
Max Values: 255, 255, 255
Mean Values: 171.6526633676114, 166.73461515112203, 153.8242649681731
Standard Deviation Values: 74.13691708442745, 76.41805230140591, 83.63470199345626
Object ID Field:
Fields:
None
Default Mosaic Method: Center
Allowed Mosaic Methods:
SortField:
SortValue: null
Mosaic Operator: First
Default Compression Quality: 75
Default Resampling Method: Bilinear
Max Record Count: null
Max Image Height: 4100
Max Image Width: 15000
Max Download Image Count: null
Max Mosaic Image Count: null
Allow Raster Function: true
Allow Copy: true
Allow Analysis: true
Allow Compute TiePoints: false
Supports Statistics: false
Supports Advanced Queries: false
Use StandardizedQueries: true
Raster Type Infos:
Name: Raster Dataset
Description: Supports all ArcGIS Raster Datasets
Help:
Has Raster Attribute Table: false
Edit Fields Info: null
Ownership Based AccessControl For Rasters: null
Child Resources:
Info
Histograms
Statistics
Key Properties
Legend
Raster Function Infos
Supported Operations:
Export Image
Identify
Measure
Compute Histograms
Compute Statistics Histograms
Get Samples
Compute Class Statistics
Query Boundary
Compute Pixel Location
Compute Angles
Validate
Project